{
 "currentVersion": 10.3,
 "serviceDescription": "GIS-Web public basemap",
 "mapName": "Layers",
 "description": "",
 "copyrightText": "Albemarle County GIS",
 "supportsDynamicLayers": false,
 "layers": [
  {
   "id": 0,
   "name": "Points of Interest",
   "parentLayerId": -1,
   "defaultVisibility": true,
   "subLayerIds": null,
   "minScale": 70000,
   "maxScale": 0
  },
  {
   "id": 1,
   "name": "Place Names",
   "parentLayerId": -1,
   "defaultVisibility": true,
   "subLayerIds": [
    2,
    3,
    4,
    5
   ],
   "minScale": 0,
   "maxScale": 0
  },
  {
   "id": 2,
   "name": "Overview - All places",
   "parentLayerId": 1,
   "defaultVisibility": true,
   "subLayerIds": null,
   "minScale": 36111.909643,
   "maxScale": 5000
  },
  {
   "id": 3,
   "name": "Overview - All Community Names",
   "parentLayerId": 1,
   "defaultVisibility": true,
   "subLayerIds": null,
   "minScale": 74000,
   "maxScale": 36000
  },
  {
   "id": 4,
   "name": "Overview - Selected Community Names",
   "parentLayerId": 1,
   "defaultVisibility": true,
   "subLayerIds": null,
   "minScale": 499000,
   "maxScale": 75000
  },
  {
   "id": 5,
   "name": "Overview - Cville and Scottsville",
   "parentLayerId": 1,
   "defaultVisibility": true,
   "subLayerIds": null,
   "minScale": 5.91657527591555E8,
   "maxScale": 500000
  },
  {
   "id": 6,
   "name": "Airport Runway",
   "parentLayerId": -1,
   "defaultVisibility": true,
   "subLayerIds": null,
   "minScale": 144449,
   "maxScale": 9027.977411
  },
  {
   "id": 7,
   "name": "Albemarle_Boundary",
   "parentLayerId": -1,
   "defaultVisibility": true,
   "subLayerIds": null,
   "minScale": 0,
   "maxScale": 0
  },
  {
   "id": 8,
   "name": "Addresses",
   "parentLayerId": -1,
   "defaultVisibility": true,
   "subLayerIds": [
    9,
    10,
    11
   ],
   "minScale": 0,
   "maxScale": 0
  },
  {
   "id": 9,
   "name": "Buildings",
   "parentLayerId": 8,
   "defaultVisibility": true,
   "subLayerIds": null,
   "minScale": 4515,
   "maxScale": 0
  },
  {
   "id": 10,
   "name": "Buildings_City",
   "parentLayerId": 8,
   "defaultVisibility": true,
   "subLayerIds": null,
   "minScale": 5000,
   "maxScale": 0
  },
  {
   "id": 11,
   "name": "Driveways",
   "parentLayerId": 8,
   "defaultVisibility": true,
   "subLayerIds": null,
   "minScale": 4515,
   "maxScale": 0
  },
  {
   "id": 12,
   "name": "Transportation",
   "parentLayerId": -1,
   "defaultVisibility": true,
   "subLayerIds": [
    13,
    14,
    15,
    16,
    17,
    18,
    25,
    26,
    27,
    28,
    29,
    30,
    31,
    32,
    36,
    41,
    47,
    48
   ],
   "minScale": 0,
   "maxScale": 0
  },
  {
   "id": 13,
   "name": "Road Centerlines - 500k+",
   "parentLayerId": 12,
   "defaultVisibility": true,
   "subLayerIds": null,
   "minScale": 0,
   "maxScale": 500000
  },
  {
   "id": 14,
   "name": "Road Centerlines Major 40k to 500k",
   "parentLayerId": 12,
   "defaultVisibility": true,
   "subLayerIds": null,
   "minScale": 500000,
   "maxScale": 40000
  },
  {
   "id": 15,
   "name": "Road Centerlines 72k ONLY",
   "parentLayerId": 12,
   "defaultVisibility": true,
   "subLayerIds": null,
   "minScale": 75000,
   "maxScale": 70000
  },
  {
   "id": 16,
   "name": "Road Centerlines Major - 10K to 40k",
   "parentLayerId": 12,
   "defaultVisibility": true,
   "subLayerIds": null,
   "minScale": 40000,
   "maxScale": 10000
  },
  {
   "id": 17,
   "name": "Road Shields 72k+",
   "parentLayerId": 12,
   "defaultVisibility": true,
   "subLayerIds": null,
   "minScale": 300000,
   "maxScale": 70000
  },
  {
   "id": 18,
   "name": "Overview Layers",
   "parentLayerId": 12,
   "defaultVisibility": false,
   "subLayerIds": [
    19,
    20,
    21,
    22,
    23,
    24
   ],
   "minScale": 0,
   "maxScale": 0
  },
  {
   "id": 19,
   "name": "Overview Road Labels",
   "parentLayerId": 18,
   "defaultVisibility": true,
   "subLayerIds": null,
   "minScale": 0,
   "maxScale": 60000
  },
  {
   "id": 20,
   "name": "Overview Roads",
   "parentLayerId": 18,
   "defaultVisibility": true,
   "subLayerIds": null,
   "minScale": 0,
   "maxScale": 60000
  },
  {
   "id": 21,
   "name": "Overview Roads - City",
   "parentLayerId": 18,
   "defaultVisibility": true,
   "subLayerIds": null,
   "minScale": 0,
   "maxScale": 60000
  },
  {
   "id": 22,
   "name": "Overview Road Labels - Adjacent Localities",
   "parentLayerId": 18,
   "defaultVisibility": true,
   "subLayerIds": null,
   "minScale": 0,
   "maxScale": 60000
  },
  {
   "id": 23,
   "name": "Overview Roads - Adjacent Localities",
   "parentLayerId": 18,
   "defaultVisibility": true,
   "subLayerIds": null,
   "minScale": 0,
   "maxScale": 60000
  },
  {
   "id": 24,
   "name": "Overview Railroads",
   "parentLayerId": 18,
   "defaultVisibility": true,
   "subLayerIds": null,
   "minScale": 0,
   "maxScale": 60000
  },
  {
   "id": 25,
   "name": "RCL_Adjacent_Buffer",
   "parentLayerId": 12,
   "defaultVisibility": false,
   "subLayerIds": null,
   "minScale": 0,
   "maxScale": 0
  },
  {
   "id": 26,
   "name": "Road Labels - Adjacent Localities",
   "parentLayerId": 12,
   "defaultVisibility": false,
   "subLayerIds": null,
   "minScale": 59999,
   "maxScale": 0
  },
  {
   "id": 27,
   "name": "Road Centerlines - Adjacent Localities",
   "parentLayerId": 12,
   "defaultVisibility": false,
   "subLayerIds": null,
   "minScale": 60000,
   "maxScale": 0
  },
  {
   "id": 28,
   "name": "Road Labels",
   "parentLayerId": 12,
   "defaultVisibility": false,
   "subLayerIds": null,
   "minScale": 59999,
   "maxScale": 0
  },
  {
   "id": 29,
   "name": "Road Labels - City 18k ",
   "parentLayerId": 12,
   "defaultVisibility": true,
   "subLayerIds": null,
   "minScale": 20000,
   "maxScale": 10000
  },
  {
   "id": 30,
   "name": "Road Labels - City - 4k - 9k",
   "parentLayerId": 12,
   "defaultVisibility": true,
   "subLayerIds": null,
   "minScale": 10000,
   "maxScale": 4000
  },
  {
   "id": 31,
   "name": "Road Labels - City - 0k - 2k",
   "parentLayerId": 12,
   "defaultVisibility": true,
   "subLayerIds": null,
   "minScale": 3000,
   "maxScale": 0
  },
  {
   "id": 32,
   "name": "roads 18k+",
   "parentLayerId": 12,
   "defaultVisibility": true,
   "subLayerIds": [
    33,
    34,
    35
   ],
   "minScale": 36113,
   "maxScale": 18055
  },
  {
   "id": 33,
   "name": "Road Labels 18k - 36k",
   "parentLayerId": 32,
   "defaultVisibility": true,
   "subLayerIds": null,
   "minScale": 59999,
   "maxScale": 0
  },
  {
   "id": 34,
   "name": "Road Centerlines",
   "parentLayerId": 32,
   "defaultVisibility": true,
   "subLayerIds": null,
   "minScale": 0,
   "maxScale": 0
  },
  {
   "id": 35,
   "name": "Road Centerlines - City",
   "parentLayerId": 32,
   "defaultVisibility": true,
   "subLayerIds": null,
   "minScale": 0,
   "maxScale": 0
  },
  {
   "id": 36,
   "name": "roads 4-9k",
   "parentLayerId": 12,
   "defaultVisibility": true,
   "subLayerIds": [
    37,
    38,
    39,
    40
   ],
   "minScale": 9029,
   "maxScale": 4513
  },
  {
   "id": 37,
   "name": "Road Labels 4-9k",
   "parentLayerId": 36,
   "defaultVisibility": true,
   "subLayerIds": null,
   "minScale": 59999,
   "maxScale": 0
  },
  {
   "id": 38,
   "name": "Roads",
   "parentLayerId": 36,
   "defaultVisibility": true,
   "subLayerIds": null,
   "minScale": 0,
   "maxScale": 4515
  },
  {
   "id": 39,
   "name": "Roads",
   "parentLayerId": 36,
   "defaultVisibility": true,
   "subLayerIds": null,
   "minScale": 0,
   "maxScale": 0
  },
  {
   "id": 40,
   "name": "Road Centerlines - City",
   "parentLayerId": 36,
   "defaultVisibility": true,
   "subLayerIds": null,
   "minScale": 0,
   "maxScale": 0
  },
  {
   "id": 41,
   "name": "roads 0-2k",
   "parentLayerId": 12,
   "defaultVisibility": true,
   "subLayerIds": [
    42,
    43,
    44,
    45,
    46
   ],
   "minScale": 2258,
   "maxScale": 0
  },
  {
   "id": 42,
   "name": "Road Labels 0-2k",
   "parentLayerId": 41,
   "defaultVisibility": true,
   "subLayerIds": null,
   "minScale": 59999,
   "maxScale": 0
  },
  {
   "id": 43,
   "name": "Railroad Bridges",
   "parentLayerId": 41,
   "defaultVisibility": true,
   "subLayerIds": null,
   "minScale": 0,
   "maxScale": 0
  },
  {
   "id": 44,
   "name": "Road Bridges",
   "parentLayerId": 41,
   "defaultVisibility": true,
   "subLayerIds": null,
   "minScale": 0,
   "maxScale": 0
  },
  {
   "id": 45,
   "name": "Roads",
   "parentLayerId": 41,
   "defaultVisibility": true,
   "subLayerIds": null,
   "minScale": 0,
   "maxScale": 0
  },
  {
   "id": 46,
   "name": "Roads - City",
   "parentLayerId": 41,
   "defaultVisibility": true,
   "subLayerIds": null,
   "minScale": 0,
   "maxScale": 0
  },
  {
   "id": 47,
   "name": "Railroads",
   "parentLayerId": 12,
   "defaultVisibility": true,
   "subLayerIds": null,
   "minScale": 500000,
   "maxScale": 0
  },
  {
   "id": 48,
   "name": "Roads",
   "parentLayerId": 12,
   "defaultVisibility": false,
   "subLayerIds": null,
   "minScale": 2258,
   "maxScale": 0
  },
  {
   "id": 49,
   "name": "Sville_Boundary",
   "parentLayerId": -1,
   "defaultVisibility": true,
   "subLayerIds": null,
   "minScale": 0,
   "maxScale": 0
  },
  {
   "id": 50,
   "name": "Water Features",
   "parentLayerId": -1,
   "defaultVisibility": true,
   "subLayerIds": [
    51,
    52,
    53,
    54,
    55
   ],
   "minScale": 0,
   "maxScale": 0
  },
  {
   "id": 51,
   "name": "Lakes and Reservoirs",
   "parentLayerId": 50,
   "defaultVisibility": true,
   "subLayerIds": null,
   "minScale": 600000,
   "maxScale": 0
  },
  {
   "id": 52,
   "name": "Ponds",
   "parentLayerId": 50,
   "defaultVisibility": true,
   "subLayerIds": null,
   "minScale": 49000,
   "maxScale": 0
  },
  {
   "id": 53,
   "name": "Stream Labels",
   "parentLayerId": 50,
   "defaultVisibility": true,
   "subLayerIds": null,
   "minScale": 19000,
   "maxScale": 0
  },
  {
   "id": 54,
   "name": "Major Streams",
   "parentLayerId": 50,
   "defaultVisibility": true,
   "subLayerIds": null,
   "minScale": 600000,
   "maxScale": 0
  },
  {
   "id": 55,
   "name": "Other Streams",
   "parentLayerId": 50,
   "defaultVisibility": true,
   "subLayerIds": null,
   "minScale": 49000,
   "maxScale": 0
  },
  {
   "id": 56,
   "name": "Park Info",
   "parentLayerId": -1,
   "defaultVisibility": true,
   "subLayerIds": [
    57,
    58,
    59,
    60,
    61,
    62,
    63
   ],
   "minScale": 0,
   "maxScale": 0
  },
  {
   "id": 57,
   "name": "Trails",
   "parentLayerId": 56,
   "defaultVisibility": false,
   "subLayerIds": null,
   "minScale": 36111.909643,
   "maxScale": 0
  },
  {
   "id": 58,
   "name": "County Parks - small parks",
   "parentLayerId": 56,
   "defaultVisibility": true,
   "subLayerIds": null,
   "minScale": 600000,
   "maxScale": 0
  },
  {
   "id": 59,
   "name": "County Parks - large parks",
   "parentLayerId": 56,
   "defaultVisibility": true,
   "subLayerIds": null,
   "minScale": 600000,
   "maxScale": 0
  },
  {
   "id": 60,
   "name": "Ivy Creek Natural Area",
   "parentLayerId": 56,
   "defaultVisibility": true,
   "subLayerIds": null,
   "minScale": 600000,
   "maxScale": 0
  },
  {
   "id": 61,
   "name": "Ragged Mountain Natural Area",
   "parentLayerId": 56,
   "defaultVisibility": true,
   "subLayerIds": null,
   "minScale": 600000,
   "maxScale": 0
  },
  {
   "id": 62,
   "name": "Shenandoah National Park",
   "parentLayerId": 56,
   "defaultVisibility": true,
   "subLayerIds": null,
   "minScale": 600000,
   "maxScale": 0
  },
  {
   "id": 63,
   "name": "Parks_City",
   "parentLayerId": 56,
   "defaultVisibility": true,
   "subLayerIds": null,
   "minScale": 0,
   "maxScale": 0
  },
  {
   "id": 64,
   "name": "boundaries",
   "parentLayerId": -1,
   "defaultVisibility": true,
   "subLayerIds": [
    65,
    66,
    67,
    68,
    69,
    70
   ],
   "minScale": 0,
   "maxScale": 0
  },
  {
   "id": 65,
   "name": "Albemarle_Boundary",
   "parentLayerId": 64,
   "defaultVisibility": true,
   "subLayerIds": null,
   "minScale": 0,
   "maxScale": 0
  },
  {
   "id": 66,
   "name": "Cville_Boundary",
   "parentLayerId": 64,
   "defaultVisibility": true,
   "subLayerIds": null,
   "minScale": 0,
   "maxScale": 0
  },
  {
   "id": 67,
   "name": "Sville_Boundary",
   "parentLayerId": 64,
   "defaultVisibility": true,
   "subLayerIds": null,
   "minScale": 0,
   "maxScale": 0
  },
  {
   "id": 68,
   "name": "albemarle_charlottesville_boundary_poly",
   "parentLayerId": 64,
   "defaultVisibility": true,
   "subLayerIds": null,
   "minScale": 0,
   "maxScale": 0
  },
  {
   "id": 69,
   "name": "VA County Boundaries Labels",
   "parentLayerId": 64,
   "defaultVisibility": true,
   "subLayerIds": null,
   "minScale": 10000000,
   "maxScale": 0
  },
  {
   "id": 70,
   "name": "VA County Boundaries",
   "parentLayerId": 64,
   "defaultVisibility": true,
   "subLayerIds": null,
   "minScale": 10000000,
   "maxScale": 0
  },
  {
   "id": 71,
   "name": "Hillshade",
   "parentLayerId": -1,
   "defaultVisibility": true,
   "subLayerIds": null,
   "minScale": 0,
   "maxScale": 0
  }
 ],
 "tables": [],
 "spatialReference": {
  "wkid": 102100,
  "latestWkid": 3857
 },
 "singleFusedMapCache": true,
 "tileInfo": {
  "rows": 256,
  "cols": 256,
  "dpi": 96,
  "format": "JPEG",
  "compressionQuality": 75,
  "origin": {
   "x": -2.0037508342787E7,
   "y": 2.0037508342787E7
  },
  "spatialReference": {
   "wkid": 102100,
   "latestWkid": 3857
  },
  "lods": [
   {
    "level": 0,
    "resolution": 156543.03392800014,
    "scale": 5.91657527591555E8
   },
   {
    "level": 1,
    "resolution": 78271.51696399994,
    "scale": 2.95828763795777E8
   },
   {
    "level": 2,
    "resolution": 39135.75848200009,
    "scale": 1.47914381897889E8
   },
   {
    "level": 3,
    "resolution": 19567.87924099992,
    "scale": 7.3957190948944E7
   },
   {
    "level": 4,
    "resolution": 9783.93962049996,
    "scale": 3.6978595474472E7
   },
   {
    "level": 5,
    "resolution": 4891.96981024998,
    "scale": 1.8489297737236E7
   },
   {
    "level": 6,
    "resolution": 2445.98490512499,
    "scale": 9244648.868618
   },
   {
    "level": 7,
    "resolution": 1222.992452562495,
    "scale": 4622324.434309
   },
   {
    "level": 8,
    "resolution": 611.4962262813797,
    "scale": 2311162.217155
   },
   {
    "level": 9,
    "resolution": 305.74811314055756,
    "scale": 1155581.108577
   },
   {
    "level": 10,
    "resolution": 152.87405657041106,
    "scale": 577790.554289
   },
   {
    "level": 11,
    "resolution": 76.43702828507324,
    "scale": 288895.277144
   },
   {
    "level": 12,
    "resolution": 38.21851414253662,
    "scale": 144447.638572
   },
   {
    "level": 13,
    "resolution": 19.10925707126831,
    "scale": 72223.819286
   },
   {
    "level": 14,
    "resolution": 9.554628535634155,
    "scale": 36111.909643
   },
   {
    "level": 15,
    "resolution": 4.77731426794937,
    "scale": 18055.954822
   },
   {
    "level": 16,
    "resolution": 2.388657133974685,
    "scale": 9027.977411
   },
   {
    "level": 17,
    "resolution": 1.1943285668550503,
    "scale": 4513.988705
   },
   {
    "level": 18,
    "resolution": 0.5971642835598172,
    "scale": 2256.994353
   },
   {
    "level": 19,
    "resolution": 0.29858214164761665,
    "scale": 1128.497176
   },
   {
    "level": 20,
    "resolution": 0.14929107082380833,
    "scale": 564.248588
   }
  ]
 },
 "initialExtent": {
  "xmin": -8849730.206236701,
  "ymin": 4553857.82339617,
  "xmax": -8626534.083643902,
  "ymax": 4651697.2196012335,
  "spatialReference": {
   "cs": "pcs",
   "wkid": 102100
  }
 },
 "fullExtent": {
  "xmin": -8978247.336079886,
  "ymin": 4441629.985091247,
  "xmax": -8504337.760712022,
  "ymax": 4717414.783144029,
  "spatialReference": {
   "cs": "pcs",
   "wkid": 102100
  }
 },
 "minScale": 2311162.217155,
 "maxScale": 564.248588,
 "units": "esriMeters",
 "supportedImageFormatTypes": "PNG32,PNG24,PNG,JPG,DIB,TIFF,EMF,PS,PDF,GIF,SVG,SVGZ,BMP",
 "documentInfo": {
  "Title": "",
  "Author": "",
  "Comments": "GIS-Web public basemap",
  "Subject": "GIS-Web public basemap",
  "Category": "",
  "AntialiasingMode": "None",
  "TextAntialiasingMode": "Force",
  "Keywords": "GIS Web"
 },
 "capabilities": "Map,Query,Data",
 "supportedQueryFormats": "JSON, AMF",
 "exportTilesAllowed": false,
 "maxRecordCount": 1000,
 "maxImageHeight": 4096,
 "maxImageWidth": 4096,
 "supportedExtensions": ""
}
