{
 "currentVersion": 10.3,
 "serviceDescription": "GIS-Web public basemap labels",
 "mapName": "Layers",
 "description": "",
 "copyrightText": "Albemarle County GIS",
 "supportsDynamicLayers": false,
 "layers": [
  {
   "id": 0,
   "name": "Points of Interest",
   "parentLayerId": -1,
   "defaultVisibility": true,
   "subLayerIds": null,
   "minScale": 70000,
   "maxScale": 0
  },
  {
   "id": 1,
   "name": "Place Names",
   "parentLayerId": -1,
   "defaultVisibility": true,
   "subLayerIds": [
    2,
    3,
    4,
    5
   ],
   "minScale": 0,
   "maxScale": 0
  },
  {
   "id": 2,
   "name": "Overview - All places",
   "parentLayerId": 1,
   "defaultVisibility": true,
   "subLayerIds": null,
   "minScale": 36111.909643,
   "maxScale": 5000
  },
  {
   "id": 3,
   "name": "Overview - All Community Names",
   "parentLayerId": 1,
   "defaultVisibility": true,
   "subLayerIds": null,
   "minScale": 74000,
   "maxScale": 36000
  },
  {
   "id": 4,
   "name": "Overview - Selected Community Names",
   "parentLayerId": 1,
   "defaultVisibility": true,
   "subLayerIds": null,
   "minScale": 499000,
   "maxScale": 75000
  },
  {
   "id": 5,
   "name": "Overview - Cville and Scottsville",
   "parentLayerId": 1,
   "defaultVisibility": true,
   "subLayerIds": null,
   "minScale": 1155581.108577,
   "maxScale": 500000
  },
  {
   "id": 6,
   "name": "Transportation",
   "parentLayerId": -1,
   "defaultVisibility": true,
   "subLayerIds": [
    7,
    8,
    9,
    10,
    11,
    13,
    15,
    17
   ],
   "minScale": 0,
   "maxScale": 0
  },
  {
   "id": 7,
   "name": "Road Shields 72k+",
   "parentLayerId": 6,
   "defaultVisibility": true,
   "subLayerIds": null,
   "minScale": 300000,
   "maxScale": 70000
  },
  {
   "id": 8,
   "name": "Road Labels - City 18k ",
   "parentLayerId": 6,
   "defaultVisibility": true,
   "subLayerIds": null,
   "minScale": 20000,
   "maxScale": 10000
  },
  {
   "id": 9,
   "name": "Road Labels - City - 4k - 9k",
   "parentLayerId": 6,
   "defaultVisibility": true,
   "subLayerIds": null,
   "minScale": 10000,
   "maxScale": 4000
  },
  {
   "id": 10,
   "name": "Road Labels - City - 0k - 2k",
   "parentLayerId": 6,
   "defaultVisibility": true,
   "subLayerIds": null,
   "minScale": 3000,
   "maxScale": 0
  },
  {
   "id": 11,
   "name": "roads 18k+",
   "parentLayerId": 6,
   "defaultVisibility": true,
   "subLayerIds": [
    12
   ],
   "minScale": 36113,
   "maxScale": 18055
  },
  {
   "id": 12,
   "name": "Road Labels 18k - 36k",
   "parentLayerId": 11,
   "defaultVisibility": true,
   "subLayerIds": null,
   "minScale": 59999,
   "maxScale": 0
  },
  {
   "id": 13,
   "name": "roads 4-9k",
   "parentLayerId": 6,
   "defaultVisibility": true,
   "subLayerIds": [
    14
   ],
   "minScale": 9029,
   "maxScale": 4513
  },
  {
   "id": 14,
   "name": "Road Labels 4-9k",
   "parentLayerId": 13,
   "defaultVisibility": true,
   "subLayerIds": null,
   "minScale": 59999,
   "maxScale": 0
  },
  {
   "id": 15,
   "name": "roads 0-2k",
   "parentLayerId": 6,
   "defaultVisibility": true,
   "subLayerIds": [
    16
   ],
   "minScale": 2258,
   "maxScale": 0
  },
  {
   "id": 16,
   "name": "Road Labels 0-2k",
   "parentLayerId": 15,
   "defaultVisibility": true,
   "subLayerIds": null,
   "minScale": 59999,
   "maxScale": 0
  },
  {
   "id": 17,
   "name": "Railroads",
   "parentLayerId": 6,
   "defaultVisibility": true,
   "subLayerIds": null,
   "minScale": 500000,
   "maxScale": 0
  },
  {
   "id": 18,
   "name": "Sville_Boundary",
   "parentLayerId": -1,
   "defaultVisibility": true,
   "subLayerIds": null,
   "minScale": 1155581.108577,
   "maxScale": 0
  },
  {
   "id": 19,
   "name": "Water Features",
   "parentLayerId": -1,
   "defaultVisibility": true,
   "subLayerIds": [
    20,
    21
   ],
   "minScale": 0,
   "maxScale": 0
  },
  {
   "id": 20,
   "name": "Lakes and Reservoirs",
   "parentLayerId": 19,
   "defaultVisibility": true,
   "subLayerIds": null,
   "minScale": 600000,
   "maxScale": 0
  },
  {
   "id": 21,
   "name": "Stream Labels",
   "parentLayerId": 19,
   "defaultVisibility": true,
   "subLayerIds": null,
   "minScale": 19000,
   "maxScale": 0
  },
  {
   "id": 22,
   "name": "Park Info",
   "parentLayerId": -1,
   "defaultVisibility": true,
   "subLayerIds": [
    23,
    24,
    25,
    26,
    27,
    28
   ],
   "minScale": 0,
   "maxScale": 0
  },
  {
   "id": 23,
   "name": "County Parks - small parks",
   "parentLayerId": 22,
   "defaultVisibility": true,
   "subLayerIds": null,
   "minScale": 600000,
   "maxScale": 0
  },
  {
   "id": 24,
   "name": "County Parks - large parks",
   "parentLayerId": 22,
   "defaultVisibility": true,
   "subLayerIds": null,
   "minScale": 600000,
   "maxScale": 0
  },
  {
   "id": 25,
   "name": "Ivy Creek Natural Area",
   "parentLayerId": 22,
   "defaultVisibility": true,
   "subLayerIds": null,
   "minScale": 600000,
   "maxScale": 0
  },
  {
   "id": 26,
   "name": "Ragged Mountain Natural Area",
   "parentLayerId": 22,
   "defaultVisibility": true,
   "subLayerIds": null,
   "minScale": 600000,
   "maxScale": 0
  },
  {
   "id": 27,
   "name": "Shenandoah National Park",
   "parentLayerId": 22,
   "defaultVisibility": true,
   "subLayerIds": null,
   "minScale": 600000,
   "maxScale": 0
  },
  {
   "id": 28,
   "name": "Parks_City",
   "parentLayerId": 22,
   "defaultVisibility": true,
   "subLayerIds": null,
   "minScale": 0,
   "maxScale": 0
  },
  {
   "id": 29,
   "name": "boundaries",
   "parentLayerId": -1,
   "defaultVisibility": true,
   "subLayerIds": [
    30,
    31,
    33,
    35,
    37
   ],
   "minScale": 0,
   "maxScale": 0
  },
  {
   "id": 30,
   "name": "VA County Boundaries Labels",
   "parentLayerId": 29,
   "defaultVisibility": true,
   "subLayerIds": null,
   "minScale": 100000,
   "maxScale": 0
  },
  {
   "id": 31,
   "name": "VA_County_Labels_Anno_100k",
   "parentLayerId": 29,
   "defaultVisibility": true,
   "subLayerIds": [
    32
   ],
   "minScale": 180000,
   "maxScale": 100000
  },
  {
   "id": 32,
   "name": "Default",
   "parentLayerId": 31,
   "defaultVisibility": true,
   "subLayerIds": null,
   "minScale": 0,
   "maxScale": 0
  },
  {
   "id": 33,
   "name": "VA_County_Labels_Anno_200k",
   "parentLayerId": 29,
   "defaultVisibility": true,
   "subLayerIds": [
    34
   ],
   "minScale": 300000,
   "maxScale": 200000
  },
  {
   "id": 34,
   "name": "Default",
   "parentLayerId": 33,
   "defaultVisibility": true,
   "subLayerIds": null,
   "minScale": 0,
   "maxScale": 0
  },
  {
   "id": 35,
   "name": "VA_County_Labels_Anno_500k",
   "parentLayerId": 29,
   "defaultVisibility": true,
   "subLayerIds": [
    36
   ],
   "minScale": 600000,
   "maxScale": 400000
  },
  {
   "id": 36,
   "name": "Default",
   "parentLayerId": 35,
   "defaultVisibility": true,
   "subLayerIds": null,
   "minScale": 0,
   "maxScale": 0
  },
  {
   "id": 37,
   "name": "VA_County_Labels_Anno_1million",
   "parentLayerId": 29,
   "defaultVisibility": false,
   "subLayerIds": [
    38
   ],
   "minScale": 1.8489297737236E7,
   "maxScale": 1140000
  },
  {
   "id": 38,
   "name": "Default",
   "parentLayerId": 37,
   "defaultVisibility": true,
   "subLayerIds": null,
   "minScale": 0,
   "maxScale": 0
  }
 ],
 "tables": [],
 "spatialReference": {
  "wkid": 102100,
  "latestWkid": 3857
 },
 "singleFusedMapCache": true,
 "tileInfo": {
  "rows": 256,
  "cols": 256,
  "dpi": 96,
  "format": "PNG",
  "compressionQuality": 0,
  "origin": {
   "x": -2.0037508342787E7,
   "y": 2.0037508342787E7
  },
  "spatialReference": {
   "wkid": 102100,
   "latestWkid": 3857
  },
  "lods": [
   {
    "level": 0,
    "resolution": 156543.03392800014,
    "scale": 5.91657527591555E8
   },
   {
    "level": 1,
    "resolution": 78271.51696399994,
    "scale": 2.95828763795777E8
   },
   {
    "level": 2,
    "resolution": 39135.75848200009,
    "scale": 1.47914381897889E8
   },
   {
    "level": 3,
    "resolution": 19567.87924099992,
    "scale": 7.3957190948944E7
   },
   {
    "level": 4,
    "resolution": 9783.93962049996,
    "scale": 3.6978595474472E7
   },
   {
    "level": 5,
    "resolution": 4891.96981024998,
    "scale": 1.8489297737236E7
   },
   {
    "level": 6,
    "resolution": 2445.98490512499,
    "scale": 9244648.868618
   },
   {
    "level": 7,
    "resolution": 1222.992452562495,
    "scale": 4622324.434309
   },
   {
    "level": 8,
    "resolution": 611.4962262813797,
    "scale": 2311162.217155
   },
   {
    "level": 9,
    "resolution": 305.74811314055756,
    "scale": 1155581.108577
   },
   {
    "level": 10,
    "resolution": 152.87405657041106,
    "scale": 577790.554289
   },
   {
    "level": 11,
    "resolution": 76.43702828507324,
    "scale": 288895.277144
   },
   {
    "level": 12,
    "resolution": 38.21851414253662,
    "scale": 144447.638572
   },
   {
    "level": 13,
    "resolution": 19.10925707126831,
    "scale": 72223.819286
   },
   {
    "level": 14,
    "resolution": 9.554628535634155,
    "scale": 36111.909643
   },
   {
    "level": 15,
    "resolution": 4.77731426794937,
    "scale": 18055.954822
   },
   {
    "level": 16,
    "resolution": 2.388657133974685,
    "scale": 9027.977411
   },
   {
    "level": 17,
    "resolution": 1.1943285668550503,
    "scale": 4513.988705
   },
   {
    "level": 18,
    "resolution": 0.5971642835598172,
    "scale": 2256.994353
   },
   {
    "level": 19,
    "resolution": 0.29858214164761665,
    "scale": 1128.497176
   },
   {
    "level": 20,
    "resolution": 0.14929107082380833,
    "scale": 564.248588
   }
  ]
 },
 "initialExtent": {
  "xmin": -8853529.605196401,
  "ymin": 4547177.505596172,
  "xmax": -8630333.482603602,
  "ymax": 4645016.901801236,
  "spatialReference": {
   "cs": "pcs",
   "wkid": 102100
  }
 },
 "fullExtent": {
  "xmin": -8978247.336079886,
  "ymin": 4441629.985091247,
  "xmax": -8504337.760712022,
  "ymax": 4717414.783144029,
  "spatialReference": {
   "cs": "pcs",
   "wkid": 102100
  }
 },
 "minScale": 2311162.217155,
 "maxScale": 564.248588,
 "units": "esriMeters",
 "supportedImageFormatTypes": "PNG32,PNG24,PNG,JPG,DIB,TIFF,EMF,PS,PDF,GIF,SVG,SVGZ,BMP",
 "documentInfo": {
  "Title": "",
  "Author": "",
  "Comments": "GIS-Web public basemap",
  "Subject": "GIS-Web public basemap",
  "Category": "",
  "AntialiasingMode": "None",
  "TextAntialiasingMode": "Force",
  "Keywords": "GIS Web labels"
 },
 "capabilities": "Map,Query,Data",
 "supportedQueryFormats": "JSON, AMF",
 "exportTilesAllowed": false,
 "maxRecordCount": 1000,
 "maxImageHeight": 4096,
 "maxImageWidth": 4096,
 "supportedExtensions": ""
}
